{
 "currentVersion": 10.91,
 "serviceDescription": "2021 Aerial Photo Service",
 "name": "Cityworks/Service_Aerial_2021",
 "description": "2021 Aerial Photo Service",
 "extent": {
  "xmin": 6042750.000007138,
  "ymin": 2195450.0001485646,
  "xmax": 6084750.000007138,
  "ymax": 2237450.0001485646,
  "spatialReference": {
   "wkt": "PROJCS[\"NAD_1983_California_zone_6_ftUS\",GEOGCS[\"GCS_North_American_1983\",DATUM[\"D_North_American_1983\",SPHEROID[\"GRS_1980\",6378137.0,298.257222101]],PRIMEM[\"Greenwich\",0.0],UNIT[\"Degree\",0.0174532925199433]],PROJECTION[\"Lambert_Conformal_Conic\"],PARAMETER[\"false_easting\",6561666.667],PARAMETER[\"false_northing\",1640416.667],PARAMETER[\"central_meridian\",-116.25],PARAMETER[\"standard_parallel_1\",32.78333333333333],PARAMETER[\"standard_parallel_2\",33.88333333333333],PARAMETER[\"latitude_of_origin\",32.16666666666666],UNIT[\"Foot_US\",0.3048006096012192]]"
  }
 },
 "initialExtent": {
  "xmin": 6042750.000007138,
  "ymin": 2195450.0001485646,
  "xmax": 6084750.000007138,
  "ymax": 2237450.0001485646,
  "spatialReference": {
   "wkt": "PROJCS[\"NAD_1983_California_zone_6_ftUS\",GEOGCS[\"GCS_North_American_1983\",DATUM[\"D_North_American_1983\",SPHEROID[\"GRS_1980\",6378137.0,298.257222101]],PRIMEM[\"Greenwich\",0.0],UNIT[\"Degree\",0.0174532925199433]],PROJECTION[\"Lambert_Conformal_Conic\"],PARAMETER[\"false_easting\",6561666.667],PARAMETER[\"false_northing\",1640416.667],PARAMETER[\"central_meridian\",-116.25],PARAMETER[\"standard_parallel_1\",32.78333333333333],PARAMETER[\"standard_parallel_2\",33.88333333333333],PARAMETER[\"latitude_of_origin\",32.16666666666666],UNIT[\"Foot_US\",0.3048006096012192]]"
  }
 },
 "fullExtent": {
  "xmin": 6042750.000007138,
  "ymin": 2195450.0001485646,
  "xmax": 6084750.000007138,
  "ymax": 2237450.0001485646,
  "spatialReference": {
   "wkt": "PROJCS[\"NAD_1983_California_zone_6_ftUS\",GEOGCS[\"GCS_North_American_1983\",DATUM[\"D_North_American_1983\",SPHEROID[\"GRS_1980\",6378137.0,298.257222101]],PRIMEM[\"Greenwich\",0.0],UNIT[\"Degree\",0.0174532925199433]],PROJECTION[\"Lambert_Conformal_Conic\"],PARAMETER[\"false_easting\",6561666.667],PARAMETER[\"false_northing\",1640416.667],PARAMETER[\"central_meridian\",-116.25],PARAMETER[\"standard_parallel_1\",32.78333333333333],PARAMETER[\"standard_parallel_2\",33.88333333333333],PARAMETER[\"latitude_of_origin\",32.16666666666666],UNIT[\"Foot_US\",0.3048006096012192]]"
  }
 },
 "hasMultidimensions": false,
 "pixelSizeX": 0.25,
 "pixelSizeY": 0.25,
 "datasetFormat": "MrSID",
 "uncompressedSize": 84672000000,
 "blockWidth": 1024,
 "blockHeight": 128,
 "compressionType": "Wavelet (MG3)",
 "bandNames": [
  "Band_1",
  "Band_2",
  "Band_3"
 ],
 "allowCopy": true,
 "allowAnalysis": true,
 "bandCount": 3,
 "pixelType": "U8",
 "minPixelSize": 0,
 "maxPixelSize": 0,
 "copyrightText": "",
 "serviceDataType": "esriImageServiceDataTypeRGB",
 "serviceSourceType": "esriImageServiceSourceTypeLayer",
 "minValues": [],
 "maxValues": [],
 "meanValues": [],
 "stdvValues": [],
 "objectIdField": "",
 "fields": [],
 "capabilities": "Image,Metadata,Mensuration",
 "defaultMosaicMethod": "Center",
 "allowedMosaicMethods": "",
 "sortField": "",
 "sortValue": null,
 "sortAscending": true,
 "mosaicOperator": "First",
 "defaultCompressionQuality": 75,
 "defaultResamplingMethod": "Bilinear",
 "maxImageHeight": 4100,
 "maxImageWidth": 15000,
 "allowRasterFunction": true,
 "rasterFunctionInfos": [
  {
   "name": "None",
   "description": "",
   "help": ""
  }
 ],
 "rasterTypeInfos": [
  {
   "name": "Raster Dataset",
   "description": "Supports all ArcGIS Raster Datasets",
   "help": ""
  }
 ],
 "mensurationCapabilities": "Basic",
 "hasHistograms": false,
 "hasColormap": false,
 "hasRasterAttributeTable": false,
 "minScale": 0,
 "maxScale": 0,
 "exportTilesAllowed": false,
 "supportsStatistics": false,
 "supportsAdvancedQueries": false,
 "editFieldsInfo": null,
 "ownershipBasedAccessControlForRasters": null,
 "allowComputeTiePoints": false,
 "useStandardizedQueries": true,
 "advancedQueryCapabilities": {
  "useStandardizedQueries": true,
  "supportsStatistics": false,
  "supportsOrderBy": false,
  "supportsDistinct": false,
  "supportsPagination": false
 },
 "spatialReference": {
  "wkt": "PROJCS[\"NAD_1983_California_zone_6_ftUS\",GEOGCS[\"GCS_North_American_1983\",DATUM[\"D_North_American_1983\",SPHEROID[\"GRS_1980\",6378137.0,298.257222101]],PRIMEM[\"Greenwich\",0.0],UNIT[\"Degree\",0.0174532925199433]],PROJECTION[\"Lambert_Conformal_Conic\"],PARAMETER[\"false_easting\",6561666.667],PARAMETER[\"false_northing\",1640416.667],PARAMETER[\"central_meridian\",-116.25],PARAMETER[\"standard_parallel_1\",32.78333333333333],PARAMETER[\"standard_parallel_2\",33.88333333333333],PARAMETER[\"latitude_of_origin\",32.16666666666666],UNIT[\"Foot_US\",0.3048006096012192]]"
 }
}
